BEGIN:VCALENDAR
VERSION:2.0
PRODID:-//217.160.0.3//NONSGML kigkonsult.se iCalcreator 2.20//
CALSCALE:GREGORIAN
METHOD:PUBLISH
X-WR-TIMEZONE:Europe/Berlin
BEGIN:VEVENT
UID:event58@GKV 'Am Bertramshof' e.V. der freundliche Kleingärtnerverein
DTSTAMP:20260421T124109Z
CATEGORIES:Bürosprechstunde
DESCRIPTION:Bürosprechstunde\nKategorie: Bürosprechstunde\nICS-Link: https:
 //www.gkv-am-bertramshof.de/index.php?option=com_jem&view=event&id=58:buer
 osprechstunde\n
DTSTART;TZID=Europe/Berlin:20260604T173000
DTEND;TZID=Europe/Berlin:20260604T193000
SUMMARY:Bürosprechstunde
URL:https://www.gkv-am-bertramshof.de/index.php?option=com_jem&view=event&i
 d=58:buerosprechstunde
END:VEVENT
END:VCALENDAR